BEGIN:VCALENDAR
VERSION:2.0
PRODID:-//Kasbah Nightclub Coventry - ECPv4.9.5//NONSGML v1.0//EN
CALSCALE:GREGORIAN
METHOD:PUBLISH
X-WR-CALNAME:Kasbah Nightclub Coventry
X-ORIGINAL-URL:https://www.kasbahnightclub.com
X-WR-CALDESC:Events for Kasbah Nightclub Coventry
BEGIN:VTIMEZONE
TZID:"Europe/London"
BEGIN:DAYLIGHT
TZOFFSETFROM:+0000
TZOFFSETTO:+0100
TZNAME:BST
DTSTART:20230326T010000
END:DAYLIGHT
BEGIN:STANDARD
TZOFFSETFROM:+0100
TZOFFSETTO:+0000
TZNAME:GMT
DTSTART:20231029T010000
END:STANDARD
END:VTIMEZONE
BEGIN:VEVENT
DTSTART;TZID="Europe/London":20231125T150000
DTEND;TZID="Europe/London":20231125T230000
DTSTAMP:20260420T204843
CREATED:20231012T141008Z
LAST-MODIFIED:20231012T141008Z
UID:1430-1700924400-1700953200@www.kasbahnightclub.com
SUMMARY:Holy Goof + Sammy Virji + Bklava + Ghoulish (Day Sessions)
DESCRIPTION:\nHOLY GOOF & SAMMY VIRJI\nSATURDAY 25TH NOVEMBER 3-10PM\nDAY SESSIONS\n\n\n\nHoly Goof & Sammy Virji join forces for this huge double headliner special on Saturday 25th November \n\n\n\nWith both artists storming the scene at the minute\, this is set to be a sell out Expect bassline\, garage\, house & grime all day long \n\n\n\nTickets on sale Friday 29th September at 10am  https://skiddle.com/e/36692233\n\n\n\n
URL:https://www.kasbahnightclub.com/event/holy-goof-sammy-virji-bklava-ghoulish-day-sessions/
END:VEVENT
END:VCALENDAR