BEGIN:VCALENDAR
VERSION:2.0
PRODID:-//Kasbah Nightclub Coventry - ECPv4.9.5//NONSGML v1.0//EN
CALSCALE:GREGORIAN
METHOD:PUBLISH
X-WR-CALNAME:Kasbah Nightclub Coventry
X-ORIGINAL-URL:https://www.kasbahnightclub.com
X-WR-CALDESC:Events for Kasbah Nightclub Coventry
BEGIN:VTIMEZONE
TZID:"Europe/London"
BEGIN:DAYLIGHT
TZOFFSETFROM:+0000
TZOFFSETTO:+0100
TZNAME:BST
DTSTART:20190331T010000
END:DAYLIGHT
BEGIN:STANDARD
TZOFFSETFROM:+0100
TZOFFSETTO:+0000
TZNAME:GMT
DTSTART:20191027T010000
END:STANDARD
END:VTIMEZONE
BEGIN:VEVENT
DTSTART;TZID="Europe/London":20190223T220000
DTEND;TZID="Europe/London":20190223T220000
DTSTAMP:20260422T190424
CREATED:20181204T115836Z
LAST-MODIFIED:20181204T115836Z
UID:289-1550959200-1550959200@www.kasbahnightclub.com
SUMMARY:HEY CHARLIE (Tricky Disco - Left Wing Show)
DESCRIPTION:\nHey Charlie are the ‘new band on the block’.  An all-female trio from London filled with grunged up guitars\, sugar pop melodies and challenging the stereotype of what it means to be a rock band in 2018. After making a big splash with their debut single “Hey”\, making it into Spotify’s UK Viral Top 50 and New Music Friday\, Hey Charlie were just getting started. Receiving support from BBC Radio 1 and Kerrang! as well as playing alongside the likes of Liam Gallagher\, Green Day & Foster the People\, they landed a European tour with All Time Low last year where they fast gained a reputation as an unpredictable cyclonic live force. \nDoors 10pm // Admission £6 \nSupports: TBC \n\n\nhttps://www.youtube.com/watch?v=wZPUbzzzF7A \n\n
URL:https://www.kasbahnightclub.com/event/hey-charlie-tricky-disco-left-wing-show/
END:VEVENT
END:VCALENDAR