BEGIN:VCALENDAR
VERSION:2.0
PRODID:-//Kasbah Nightclub Coventry - ECPv4.9.5//NONSGML v1.0//EN
CALSCALE:GREGORIAN
METHOD:PUBLISH
X-WR-CALNAME:Kasbah Nightclub Coventry
X-ORIGINAL-URL:https://www.kasbahnightclub.com
X-WR-CALDESC:Events for Kasbah Nightclub Coventry
BEGIN:VTIMEZONE
TZID:"Europe/London"
BEGIN:DAYLIGHT
TZOFFSETFROM:+0000
TZOFFSETTO:+0100
TZNAME:BST
DTSTART:20260329T010000
END:DAYLIGHT
BEGIN:STANDARD
TZOFFSETFROM:+0100
TZOFFSETTO:+0000
TZNAME:GMT
DTSTART:20261025T010000
END:STANDARD
END:VTIMEZONE
BEGIN:VEVENT
DTSTART;TZID="Europe/London":20260502T223000
DTEND;TZID="Europe/London":20260502T223000
DTSTAMP:20260424T135930
CREATED:20260309T155227Z
LAST-MODIFIED:20260309T155227Z
UID:1889-1777761000-1777761000@www.kasbahnightclub.com
SUMMARY:Hardy Caprio
DESCRIPTION:From “Best Life” to “Guten Tag” \nHardy Caprio live at Kasbah.\nSaturday 2nd May.\n\nIt’s going off \nTickets on sale –>\n\nhttps://www.skiddle.com/e/42147580\n\n\n
URL:https://www.kasbahnightclub.com/event/hardy-caprio/
END:VEVENT
END:VCALENDAR