BEGIN:VCALENDAR
VERSION:2.0
PRODID:-//Kasbah Nightclub Coventry - ECPv4.9.5//NONSGML v1.0//EN
CALSCALE:GREGORIAN
METHOD:PUBLISH
X-WR-CALNAME:Kasbah Nightclub Coventry
X-ORIGINAL-URL:https://www.kasbahnightclub.com
X-WR-CALDESC:Events for Kasbah Nightclub Coventry
BEGIN:VTIMEZONE
TZID:"Europe/London"
BEGIN:DAYLIGHT
TZOFFSETFROM:+0000
TZOFFSETTO:+0100
TZNAME:BST
DTSTART:20240331T010000
END:DAYLIGHT
BEGIN:STANDARD
TZOFFSETFROM:+0100
TZOFFSETTO:+0000
TZNAME:GMT
DTSTART:20241027T010000
END:STANDARD
END:VTIMEZONE
BEGIN:VEVENT
DTSTART;TZID="Europe/London":20240525T140000
DTEND;TZID="Europe/London":20240525T220000
DTSTAMP:20260420T171738
CREATED:20240216T162744Z
LAST-MODIFIED:20240216T162744Z
UID:1482-1716645600-1716674400@www.kasbahnightclub.com
SUMMARY:Gin & Juice
DESCRIPTION:Do not miss out on our 3rd annual Old School Hip-Hop Outdoor Summer BBQ in Coventry  This will be our most spectacular event to date so sign up now and grab your tickets when they drop!\nSIGN UP NOW FOR EARLY ACCESS TO PRIORITY DISCOUNTED TICKETS!\n>>> https://bit.ly/GJCOVSIGNUP2024\nThe biggest old school hip-hop brand in the UK bringing together those who wanna get taken back to the 80s & 90s era of hip-hop! This is truly one for the old school hip-hop heads! Guaranteed great vibes\, energy and nostalgia all day and night!\nBe sure to dress up as your favourite old school hip-hop artist and come down to dance with your gang \n– – – – – – – – – – – – – – – – – – –\n COMPETITION \n– – – – – – – – – – – – – – – – – – –\nClick “GOING” + SHARE this event for the chance to win 4 VIP tickets to the event\, a £500 bar tab and 2 rooms at a 5* hotel!\n– – – – – – – – – – – – – – – – – – –\nEXPECT \n– – – – – – – – – – – – – – – – – – –\n– 1000+ Hip-Hop Lovers\n– 8 hours of Old School Hip-Hop BANGERS!\n– BBQ Food Vendors [Confirmed]\n– Dance-off competitions\n– Festival Production\n– State of the art sound system\n– Huge Outdoor Space\n– The Ultimate Old School Hip-Hop\nEvent!\nSIGN UP NOW:\nhttps://bit.ly/GJCOVSIGNUP2024\n– – – – – – – – – – – – – – – – – – –\nBIRTHDAY UPGRADES\n– – – – – – – – – – – – – – – – – – –\nIf you are celebrating your birthday in the month of May\, get your FREE birthday ticket. Email YO@GINANDJUICEUK.COM\nWe will match your ID with the FREE ticket  These are super limited so it’s first come first served.\n– – – – – – – – – – – – – – – – – – –\nIMPORTANT INFORMATION\n– – – – – – – – – – – – – – – – – – –\nDATE: Saturday 25th May 2024\nVENUE: Secret Location! (Venue confirmed)\nAmazing event space with a HUGE outdoor space!\nDOORS OPEN: 2PM\nCURFEW: 10PM\n18+ ID REQUIRED\nClick “INTERESTED” in all of our events on Facebook to keep up to date with important announcements etc \n– – – – – – – – – – – – – – – – – – –\n CONTACT US 24/7 \n– – – – – – – – – – – – – – – – – – –\nIf you have any questions\, do not hesitate to contact us on the following\nEMAIL : YO@GINANDJUICEUK.COM\nINSTAGRAM : https://www.instagram.com/ginandjuiceofficial\n  \n \n
URL:https://www.kasbahnightclub.com/event/gin-juice/
END:VEVENT
END:VCALENDAR