BEGIN:VCALENDAR
VERSION:2.0
PRODID:-//Kasbah Nightclub Coventry - ECPv4.9.5//NONSGML v1.0//EN
CALSCALE:GREGORIAN
METHOD:PUBLISH
X-WR-CALNAME:Kasbah Nightclub Coventry
X-ORIGINAL-URL:https://www.kasbahnightclub.com
X-WR-CALDESC:Events for Kasbah Nightclub Coventry
BEGIN:VTIMEZONE
TZID:"Europe/London"
BEGIN:DAYLIGHT
TZOFFSETFROM:+0000
TZOFFSETTO:+0100
TZNAME:BST
DTSTART:20190331T010000
END:DAYLIGHT
BEGIN:STANDARD
TZOFFSETFROM:+0100
TZOFFSETTO:+0000
TZNAME:GMT
DTSTART:20191027T010000
END:STANDARD
END:VTIMEZONE
BEGIN:VEVENT
DTSTART;TZID="Europe/London":20191012T220000
DTEND;TZID="Europe/London":20191012T220000
DTSTAMP:20260424T133401
CREATED:20190923T155319Z
LAST-MODIFIED:20191010T204014Z
UID:718-1570917600-1570917600@www.kasbahnightclub.com
SUMMARY:FUSE ODG
DESCRIPTION:MOBO Award winner Fuse ODG will be bringing his African dance rhythms\, ravey synths and razor sharp rapping. Known for his energetic performances and his original and creative conceptual songs\, Fuse ODG guarantees to keep the party pumping until dawn. \nDoors 10pm // 18+ \n  \nfuse odg at Kasbah: Lineups\, directions and info \n \n
URL:https://www.kasbahnightclub.com/event/fuse-odg/
END:VEVENT
END:VCALENDAR