BEGIN:VCALENDAR
VERSION:2.0
PRODID:-//Kasbah Nightclub Coventry - ECPv4.9.5//NONSGML v1.0//EN
CALSCALE:GREGORIAN
METHOD:PUBLISH
X-WR-CALNAME:Kasbah Nightclub Coventry
X-ORIGINAL-URL:https://www.kasbahnightclub.com
X-WR-CALDESC:Events for Kasbah Nightclub Coventry
BEGIN:VTIMEZONE
TZID:"Europe/London"
BEGIN:DAYLIGHT
TZOFFSETFROM:+0000
TZOFFSETTO:+0100
TZNAME:BST
DTSTART:20230326T010000
END:DAYLIGHT
BEGIN:STANDARD
TZOFFSETFROM:+0100
TZOFFSETTO:+0000
TZNAME:GMT
DTSTART:20231029T010000
END:STANDARD
END:VTIMEZONE
BEGIN:VEVENT
DTSTART;TZID="Europe/London":20230505T183000
DTEND;TZID="Europe/London":20230505T220000
DTSTAMP:20260422T124726
CREATED:20230316T145142Z
LAST-MODIFIED:20230316T145142Z
UID:1324-1683311400-1683324000@www.kasbahnightclub.com
SUMMARY:Fun Lovin' Criminals
DESCRIPTION:\nFun Lovin’ Criminals are coming to Kasbah on Friday 5th May \n\n\n\nPerforming all their hits live including ‘Scooby Snacks’\, ‘The Fun Lovin’ Criminal’\, ‘Couldn’t Get It Right’\, ‘King of New York’ and more.\n\n\n\nTickets on sale now >> https://www.ticketweb.uk/…/fun-lovin…/12973555…\n\n\n\nDoors 6:30pm // 14+ show\n\n\n\n
URL:https://www.kasbahnightclub.com/event/fun-lovin-criminals/
END:VEVENT
END:VCALENDAR