BEGIN:VCALENDAR
VERSION:2.0
PRODID:-//Kasbah Nightclub Coventry - ECPv4.9.5//NONSGML v1.0//EN
CALSCALE:GREGORIAN
METHOD:PUBLISH
X-WR-CALNAME:Kasbah Nightclub Coventry
X-ORIGINAL-URL:https://www.kasbahnightclub.com
X-WR-CALDESC:Events for Kasbah Nightclub Coventry
BEGIN:VTIMEZONE
TZID:"Europe/London"
BEGIN:DAYLIGHT
TZOFFSETFROM:+0000
TZOFFSETTO:+0100
TZNAME:BST
DTSTART:20210328T010000
END:DAYLIGHT
BEGIN:STANDARD
TZOFFSETFROM:+0100
TZOFFSETTO:+0000
TZNAME:GMT
DTSTART:20211031T010000
END:STANDARD
END:VTIMEZONE
BEGIN:VEVENT
DTSTART;TZID="Europe/London":20210918T220000
DTEND;TZID="Europe/London":20210918T220000
DTSTAMP:20260422T141010
CREATED:20210916T214754Z
LAST-MODIFIED:20210916T214754Z
UID:1010-1632002400-1632002400@www.kasbahnightclub.com
SUMMARY:Freshers Saturday w/ Navos
DESCRIPTION:\nJoin us this Saturday 18th September for our Freshers Week Closing Party with DJ Navos \n\n\n\nThe up and coming DJ is fast becoming a dance revolution in the making\, with his single “Believe Me” being one of the biggest breakout dance anthems of 2021 \n\n\n\nDoors 10pm\n\nNo advance tickets\, pay on the door as normal / admission £6.\n\n\n\n
URL:https://www.kasbahnightclub.com/event/freshers-saturday-w-navos/
END:VEVENT
END:VCALENDAR