BEGIN:VCALENDAR
VERSION:2.0
PRODID:-//Kasbah Nightclub Coventry - ECPv4.9.5//NONSGML v1.0//EN
CALSCALE:GREGORIAN
METHOD:PUBLISH
X-WR-CALNAME:Kasbah Nightclub Coventry
X-ORIGINAL-URL:https://www.kasbahnightclub.com
X-WR-CALDESC:Events for Kasbah Nightclub Coventry
BEGIN:VTIMEZONE
TZID:"Europe/London"
BEGIN:DAYLIGHT
TZOFFSETFROM:+0000
TZOFFSETTO:+0100
TZNAME:BST
DTSTART:20210328T010000
END:DAYLIGHT
BEGIN:STANDARD
TZOFFSETFROM:+0100
TZOFFSETTO:+0000
TZNAME:GMT
DTSTART:20211031T010000
END:STANDARD
END:VTIMEZONE
BEGIN:VEVENT
DTSTART;TZID="Europe/London":20210929T220000
DTEND;TZID="Europe/London":20210929T220000
DTSTAMP:20260422T105241
CREATED:20210923T130949Z
LAST-MODIFIED:20210923T131230Z
UID:1015-1632952800-1632952800@www.kasbahnightclub.com
SUMMARY:Freshers NEON CIRCUS - Coventry / Warwick Freshers 2021!
DESCRIPTION:ROLL UP\, ROLL UP for the return of Coventry’s biggest FRESHERS TRADITION … the annual sell out event that is … NEON CIRCUS! \nExpect: \nFull Venue Decor! \nGiant UV light Cannons! \n1000s of Glowsticks! \nNeon facepaints + Neon glitter! \nNeon Confetti\, Confetti + more Confetti! \nNeon Rave Battons! \nCrazy Production – CO2! Indoor Pyros! Dancers! Sweets! Massive student drinks offers + much much more! \nRISK FREE !!! This event is fully refundable* if you do not get into your chosen University \nThis means you can secure the NEON CIRCUS at the cheapest price before results are confirmed and sales BOOM! \nCOVID 19 POLICY – if government ruling means that nightclubs are\nunable to open on the advertised dates\, tickets will still be 100% valid\nfor the rescheduled dates as soon as we can open!  Alternately IF there\nis no approximate indication of when nightclubs can open without social\ndistancing AND government guidelines permit\, tickets will be valid for\nsocial distanced freshers events. One way or another the party will go\nahead! \n—— \n \n
URL:https://www.kasbahnightclub.com/event/freshers-neon-circus-coventry-warwick-freshers-2021/
END:VEVENT
END:VCALENDAR