BEGIN:VCALENDAR
VERSION:2.0
PRODID:-//Kasbah Nightclub Coventry - ECPv4.9.5//NONSGML v1.0//EN
CALSCALE:GREGORIAN
METHOD:PUBLISH
X-WR-CALNAME:Kasbah Nightclub Coventry
X-ORIGINAL-URL:https://www.kasbahnightclub.com
X-WR-CALDESC:Events for Kasbah Nightclub Coventry
BEGIN:VTIMEZONE
TZID:"Europe/London"
BEGIN:DAYLIGHT
TZOFFSETFROM:+0000
TZOFFSETTO:+0100
TZNAME:BST
DTSTART:20240331T010000
END:DAYLIGHT
BEGIN:STANDARD
TZOFFSETFROM:+0100
TZOFFSETTO:+0000
TZNAME:GMT
DTSTART:20241027T010000
END:STANDARD
END:VTIMEZONE
BEGIN:VEVENT
DTSTART;TZID="Europe/London":20240909T080000
DTEND;TZID="Europe/London":20240909T170000
DTSTAMP:20260420T171654
CREATED:20240909T134028Z
LAST-MODIFIED:20240909T134028Z
UID:1592-1725868800-1725901200@www.kasbahnightclub.com
SUMMARY:Freshers Monday
DESCRIPTION:\nBACK TO SCHOOL DISCO\nMONDAY 16TH SEPTEMBER\n\n\n\nOne of the biggest events of the year and definitely the biggest event of freshers\n\n\n\nArrive early to avoid the queues\, it’s going to be a big one\n\n\n\nDoors 10pm / Admission £5\n\n\n
URL:https://www.kasbahnightclub.com/event/freshers-monday-2/
END:VEVENT
END:VCALENDAR