BEGIN:VCALENDAR
VERSION:2.0
PRODID:-//Kasbah Nightclub Coventry - ECPv4.9.5//NONSGML v1.0//EN
CALSCALE:GREGORIAN
METHOD:PUBLISH
X-WR-CALNAME:Kasbah Nightclub Coventry
X-ORIGINAL-URL:https://www.kasbahnightclub.com
X-WR-CALDESC:Events for Kasbah Nightclub Coventry
BEGIN:VTIMEZONE
TZID:"Europe/London"
BEGIN:DAYLIGHT
TZOFFSETFROM:+0000
TZOFFSETTO:+0100
TZNAME:BST
DTSTART:20190331T010000
END:DAYLIGHT
BEGIN:STANDARD
TZOFFSETFROM:+0100
TZOFFSETTO:+0000
TZNAME:GMT
DTSTART:20191027T010000
END:STANDARD
END:VTIMEZONE
BEGIN:VEVENT
DTSTART;TZID="Europe/London":20190302T220000
DTEND;TZID="Europe/London":20190302T220000
DTSTAMP:20260422T204223
CREATED:20181227T164333Z
LAST-MODIFIED:20190124T153310Z
UID:313-1551564000-1551564000@www.kasbahnightclub.com
SUMMARY:Foreverland: Enchanted Forest Rave
DESCRIPTION:The World’s most magical club night transforms Kasbah into an enchanted forest for a night of immersive raving 🔮🌲 \nWhat to expect? Watch here → bit.ly/FLUKAftermovie \n🤖 Walkabout Characters\n🌺 Immersive Themed Décor + Props\n⚡️ L.E.D & Pyrotechnic Displays\n🐸 Mythical Beast Puppeteers\n🐲 Inflatable Creatures\n🌪 C02 + Confetti Cannons\n🎭 Face/Body Painters\n🔞 Strictly 18+ Entry Policy \nTickets: £6 plus booking and transaction fee \nhttps://www.seetickets.com/event/foreverland/kasbah-coventry/1308348 \n
URL:https://www.kasbahnightclub.com/event/foreverland-enchanted-forest-rave/
END:VEVENT
END:VCALENDAR