BEGIN:VCALENDAR
VERSION:2.0
PRODID:-//Kasbah Nightclub Coventry - ECPv4.9.5//NONSGML v1.0//EN
CALSCALE:GREGORIAN
METHOD:PUBLISH
X-WR-CALNAME:Kasbah Nightclub Coventry
X-ORIGINAL-URL:https://www.kasbahnightclub.com
X-WR-CALDESC:Events for Kasbah Nightclub Coventry
BEGIN:VTIMEZONE
TZID:"Europe/London"
BEGIN:DAYLIGHT
TZOFFSETFROM:+0000
TZOFFSETTO:+0100
TZNAME:BST
DTSTART:20190331T010000
END:DAYLIGHT
BEGIN:STANDARD
TZOFFSETFROM:+0100
TZOFFSETTO:+0000
TZNAME:GMT
DTSTART:20191027T010000
END:STANDARD
END:VTIMEZONE
BEGIN:VEVENT
DTSTART;TZID="Europe/London":20190928T220000
DTEND;TZID="Europe/London":20190929T220000
DTSTAMP:20260424T133524
CREATED:20190404T153221Z
LAST-MODIFIED:20190925T111621Z
UID:513-1569708000-1569794400@www.kasbahnightclub.com
SUMMARY:FESTIVAL OF THE DEAD
DESCRIPTION:☠️☠️ Festival of The Dead comes to Coventry ☠️☠️ \nAfter a sellout tour across the UK in 2018\, Festival of The Dead returns. A unique combination of carnival\, circus and clubbing inspired by the art of the Day of The Dead celebration. \nThe most imaginative\, immersive and out right wicked events any where on planet earth. \nREGISTER FOR MORE INFO -> www.festivalofthedead.co.uk \nWe have released a small number of cheaper pre-sale tickets if you’re quick. Please note\, our event always sell out far in advance. \nGiant puppets and incredible creatures join breath taking performers to bring you a show straight from the depths of the afterlife. \n“Quite simply\, this is one of the most unique events you will have ever been to.” \nPlease note: our guests are as much a part of the show as the performers. Come dressed in your deathly best. \nDOORS 10PM \n
URL:https://www.kasbahnightclub.com/event/festival-of-the-dead/
END:VEVENT
END:VCALENDAR