BEGIN:VCALENDAR
VERSION:2.0
PRODID:-//Kasbah Nightclub Coventry - ECPv4.9.5//NONSGML v1.0//EN
CALSCALE:GREGORIAN
METHOD:PUBLISH
X-WR-CALNAME:Kasbah Nightclub Coventry
X-ORIGINAL-URL:https://www.kasbahnightclub.com
X-WR-CALDESC:Events for Kasbah Nightclub Coventry
BEGIN:VTIMEZONE
TZID:"Europe/London"
BEGIN:DAYLIGHT
TZOFFSETFROM:+0000
TZOFFSETTO:+0100
TZNAME:BST
DTSTART:20210328T010000
END:DAYLIGHT
BEGIN:STANDARD
TZOFFSETFROM:+0100
TZOFFSETTO:+0000
TZNAME:GMT
DTSTART:20211031T010000
END:STANDARD
END:VTIMEZONE
BEGIN:VEVENT
DTSTART;TZID="Europe/London":20210813T183000
DTEND;TZID="Europe/London":20210813T220000
DTSTAMP:20260422T192931
CREATED:20210415T131105Z
LAST-MODIFIED:20210415T131105Z
UID:930-1628879400-1628892000@www.kasbahnightclub.com
SUMMARY:Everything Everything (Pre-Club Show)
DESCRIPTION:Everything Everything one of the biggest electronic art-pop bands in UK are coming to Coventry for a one-off show on Friday 13th August 2021❗ \nNew single “Supernormal” is out now and it promises to be their biggest song ever written 🔥 \nTickets on sale on Friday 16th April at 10am through skiddle.com and seetickets.com \n \n
URL:https://www.kasbahnightclub.com/event/everything-everything-pre-club-show/
END:VEVENT
END:VCALENDAR