BEGIN:VCALENDAR
VERSION:2.0
PRODID:-//Kasbah Nightclub Coventry - ECPv4.9.5//NONSGML v1.0//EN
CALSCALE:GREGORIAN
METHOD:PUBLISH
X-WR-CALNAME:Kasbah Nightclub Coventry
X-ORIGINAL-URL:https://www.kasbahnightclub.com
X-WR-CALDESC:Events for Kasbah Nightclub Coventry
BEGIN:VTIMEZONE
TZID:"Europe/London"
BEGIN:DAYLIGHT
TZOFFSETFROM:+0000
TZOFFSETTO:+0100
TZNAME:BST
DTSTART:20190331T010000
END:DAYLIGHT
BEGIN:STANDARD
TZOFFSETFROM:+0100
TZOFFSETTO:+0000
TZNAME:GMT
DTSTART:20191027T010000
END:STANDARD
END:VTIMEZONE
BEGIN:VEVENT
DTSTART;TZID="Europe/London":20191014T220000
DTEND;TZID="Europe/London":20191014T220000
DTSTAMP:20260424T151921
CREATED:20190726T230209Z
LAST-MODIFIED:20190726T230209Z
UID:655-1571090400-1571090400@www.kasbahnightclub.com
SUMMARY:EUT (Bubbleluv - Side room show)
DESCRIPTION:Doors 10pm // Admission £5\nSide room show \nBursting onto the scene with bold attitude EUT bring fresh energy to 1990s inspired sounds\, drawing on influences from bands ranging as wide as the Pixies\, Yeah Yeah Yeahs\, Blur\, Weezer\, Hole\, Wilco or Beck. \nFronted by the charismatic bundle of energy of singer Megan de Klerk the band crafts beautifully written songs with gorgeous melodies – all hooky pop tunes in a straitjacket\, about youthfulness and growing up. They are catchy\, full of energy and intriguing at once\, without ever sounding too polished. \nSome new press\nhttp://diymag.com/2019/05/23/eut-fool-for-the-vibes-album-review – see attached\nhttps://www.clashmusic.com/features/eut-pick-out-some-jewels-from-the-dutch-underground\nThere will be an NME piece on them next week. \nHere is some Radio coverage last week \nhttps://www.bbc.co.uk/sounds/play/m000583v\nPlay – 40:39\n‘There’s good music coming out of Amsterdam at the moment’ \nhttps://www.bbc.co.uk/sounds/play/m0005hb8\nPlay – 42:49\n‘I’m well into this band’ \n
URL:https://www.kasbahnightclub.com/event/eut-bubbleluv-side-room-show/
END:VEVENT
END:VCALENDAR