BEGIN:VCALENDAR
VERSION:2.0
PRODID:-//Kasbah Nightclub Coventry - ECPv4.9.5//NONSGML v1.0//EN
CALSCALE:GREGORIAN
METHOD:PUBLISH
X-WR-CALNAME:Kasbah Nightclub Coventry
X-ORIGINAL-URL:https://www.kasbahnightclub.com
X-WR-CALDESC:Events for Kasbah Nightclub Coventry
BEGIN:VTIMEZONE
TZID:"Europe/London"
BEGIN:DAYLIGHT
TZOFFSETFROM:+0000
TZOFFSETTO:+0100
TZNAME:BST
DTSTART:20220327T010000
END:DAYLIGHT
BEGIN:STANDARD
TZOFFSETFROM:+0100
TZOFFSETTO:+0000
TZNAME:GMT
DTSTART:20221030T010000
END:STANDARD
END:VTIMEZONE
BEGIN:VEVENT
DTSTART;TZID="Europe/London":20221125T180000
DTEND;TZID="Europe/London":20221125T220000
DTSTAMP:20260422T133526
CREATED:20221110T153548Z
LAST-MODIFIED:20221110T153548Z
UID:1264-1669399200-1669413600@www.kasbahnightclub.com
SUMMARY:England vs USA
DESCRIPTION:QATAR WORLD CUP 2022 \nWatch the Qatar 2022 World Cup on the biggest screen in the city‼️\n\nHUGE SCREEN | DJS | FOOTBALL GIVEAWAYS | AWESOME DRINK DEALS\n\nThe biggest fan zone in the Midlands!\n\nTickets include entry into club night afterwards where applicable.\n\nTickets link: https://www.skiddle.com/e/36210960/\n\n\n
URL:https://www.kasbahnightclub.com/event/england-vs-usa/
END:VEVENT
END:VCALENDAR