BEGIN:VCALENDAR
VERSION:2.0
PRODID:-//Kasbah Nightclub Coventry - ECPv4.9.5//NONSGML v1.0//EN
CALSCALE:GREGORIAN
METHOD:PUBLISH
X-WR-CALNAME:Kasbah Nightclub Coventry
X-ORIGINAL-URL:https://www.kasbahnightclub.com
X-WR-CALDESC:Events for Kasbah Nightclub Coventry
BEGIN:VTIMEZONE
TZID:"Europe/London"
BEGIN:DAYLIGHT
TZOFFSETFROM:+0000
TZOFFSETTO:+0100
TZNAME:BST
DTSTART:20190331T010000
END:DAYLIGHT
BEGIN:STANDARD
TZOFFSETFROM:+0100
TZOFFSETTO:+0000
TZNAME:GMT
DTSTART:20191027T010000
END:STANDARD
END:VTIMEZONE
BEGIN:VEVENT
DTSTART;TZID="Europe/London":20190413T220000
DTEND;TZID="Europe/London":20190413T220000
DTSTAMP:20260423T200709
CREATED:20190214T162212Z
LAST-MODIFIED:20190214T162212Z
UID:402-1555192800-1555192800@www.kasbahnightclub.com
SUMMARY:ENDORPHINMACHINE (PRINCE TRIBUTE) (Tricky Disco - Left Wing show)
DESCRIPTION:Doors 10pm // Admission £6 \nDirect ticket link: https://www.seetickets.com/event/prince-tribute-endorphinmachine/kasbah/1317726 \nPrince Tribute Endorphinmachine are a nine piece tribute to one of the most talented artists and astonishing live performers the world has ever seen. More importantly\, they are all genuine fans and awesome musicians.  \nHaving been playing for more than 10 years they have honed their live shows into a powerful tour-de-force. \nThey play with the passion and power that only people who are emotionally invested in the music can do.  \nFunk\, Pop\, Rock & Jazz. Greatest hits\, deep cuts & jams. Falsettos\, Linn Drums and horn sections. \nU will hear it\, U will see it\, U will feel it. \n
URL:https://www.kasbahnightclub.com/event/endorphinmachine-prince-tribute-tricky-disco-left-wing-show/
END:VEVENT
END:VCALENDAR