BEGIN:VCALENDAR
VERSION:2.0
PRODID:-//Kasbah Nightclub Coventry - ECPv4.9.5//NONSGML v1.0//EN
CALSCALE:GREGORIAN
METHOD:PUBLISH
X-WR-CALNAME:Kasbah Nightclub Coventry
X-ORIGINAL-URL:https://www.kasbahnightclub.com
X-WR-CALDESC:Events for Kasbah Nightclub Coventry
BEGIN:VTIMEZONE
TZID:"Europe/London"
BEGIN:DAYLIGHT
TZOFFSETFROM:+0000
TZOFFSETTO:+0100
TZNAME:BST
DTSTART:20200329T010000
END:DAYLIGHT
BEGIN:STANDARD
TZOFFSETFROM:+0100
TZOFFSETTO:+0000
TZNAME:GMT
DTSTART:20201025T010000
END:STANDARD
END:VTIMEZONE
BEGIN:VEVENT
DTSTART;TZID="Europe/London":20200229T190000
DTEND;TZID="Europe/London":20200229T190000
DTSTAMP:20260423T052406
CREATED:20191219T165529Z
LAST-MODIFIED:20200208T214618Z
UID:786-1583002800-1583002800@www.kasbahnightclub.com
SUMMARY:Dr. Dre 2001 (No Strings Attached)
DESCRIPTION:One of the UK’s leading Orchestras is coming to Kasbah on Saturday 29th February 2020 to perform a complete rendition of Dr. Dre’s 2001 album! 🎺🎻\nWe are bringing the incredible No Strings Attached Events\, come see for yourself the brilliant live orchestral rendition of Dr. Dre: 2001 for one night only. \nDoors 7pm \nTickets on sale from https://www.skiddle.com/e/13695882/ \n
URL:https://www.kasbahnightclub.com/event/dr-dre-2001-no-strings-attached/
END:VEVENT
END:VCALENDAR