BEGIN:VCALENDAR
VERSION:2.0
PRODID:-//Kasbah Nightclub Coventry - ECPv4.9.5//NONSGML v1.0//EN
CALSCALE:GREGORIAN
METHOD:PUBLISH
X-WR-CALNAME:Kasbah Nightclub Coventry
X-ORIGINAL-URL:https://www.kasbahnightclub.com
X-WR-CALDESC:Events for Kasbah Nightclub Coventry
BEGIN:VTIMEZONE
TZID:"Europe/London"
BEGIN:DAYLIGHT
TZOFFSETFROM:+0000
TZOFFSETTO:+0100
TZNAME:BST
DTSTART:20190331T010000
END:DAYLIGHT
BEGIN:STANDARD
TZOFFSETFROM:+0100
TZOFFSETTO:+0000
TZNAME:GMT
DTSTART:20191027T010000
END:STANDARD
END:VTIMEZONE
BEGIN:VEVENT
DTSTART;TZID="Europe/London":20190311T220000
DTEND;TZID="Europe/London":20190311T220000
DTSTAMP:20260423T014354
CREATED:20190304T135056Z
LAST-MODIFIED:20190304T135056Z
UID:419-1552341600-1552341600@www.kasbahnightclub.com
SUMMARY:DOUGIE POINTER (DJ Set) (Bubbleluv)
DESCRIPTION:We welcome Dougie Poynter to Kasbah on Monday 11th March 2019 to take over the decks in our side room 🎧🎶 \nHaving rose to fame with his band McFly\, the musician\, songwriter\, fashion model\, clothing designer\, author and actor has since gone on to gain solo success and a huge fan base along the way 🙌 \nDoors 10pm / Admission £5 \nNo advance tickets\, everyone will be paying on the door \n
URL:https://www.kasbahnightclub.com/event/dougie-pointer-dj-set-bubbleluv/
END:VEVENT
END:VCALENDAR