BEGIN:VCALENDAR
VERSION:2.0
PRODID:-//Kasbah Nightclub Coventry - ECPv4.9.5//NONSGML v1.0//EN
CALSCALE:GREGORIAN
METHOD:PUBLISH
X-WR-CALNAME:Kasbah Nightclub Coventry
X-ORIGINAL-URL:https://www.kasbahnightclub.com
X-WR-CALDESC:Events for Kasbah Nightclub Coventry
BEGIN:VTIMEZONE
TZID:"Europe/London"
BEGIN:DAYLIGHT
TZOFFSETFROM:+0000
TZOFFSETTO:+0100
TZNAME:BST
DTSTART:20210328T010000
END:DAYLIGHT
BEGIN:STANDARD
TZOFFSETFROM:+0100
TZOFFSETTO:+0000
TZNAME:GMT
DTSTART:20211031T010000
END:STANDARD
END:VTIMEZONE
BEGIN:VEVENT
DTSTART;TZID="Europe/London":20210227T190000
DTEND;TZID="Europe/London":20210227T220000
DTSTAMP:20260422T193041
CREATED:20200107T152549Z
LAST-MODIFIED:20200708T142106Z
UID:797-1614452400-1614463200@www.kasbahnightclub.com
SUMMARY:DEFINITELY OASIS (Pre-club show)
DESCRIPTION:Definitely Oasis the worlds best Oasis tribute are coming to Coventry on Saturday 27th February 2021 \nGoing by demand for other shows this gig is expected to sell fast so Don’t delay order your tickets today.\nPlease be aware this is an over 18’s event and photo I.D may be required.\nDefinitely Oasis are regarded by many Oasis fans and promoters alike as the best Oasis tribute band there is!\nEverything the band does is all about what the fans want to see and hear a lot of hard work goes on in the background making sure that the look and sound are bang on so much so that the band played a sold-out show at the iconic barrowland’s venue in 2016 a venue loved by both Liam & Noel Gallagher and where Oasis played arguably some of their finest ever shows including the 10 Years Of Noise And Confusion gig that was shown live on Sky Box Office in 2001 another first for an Oasis tribute band proves why they are the best Oasis tribute in the Business.\nThe band regularly sell out top class venues across the UK in advance including venues like.. O2 Academy Islington (Main Room) O2 Academy Glasgow\, Factory Manchester\, Thekla Bristol\, Liquid Rooms Edinburgh\, The Live Rooms Chester & The Brickyard in Carlisle to name but a few\nThe band also recently sold out their own headline show at O2 Academy Glasgow to over two and a half thousand people in 2018 and it shows just how highly the band are now regarded amongst Oasis fans.\nWith the real Oasis on an extended break at the moment\, This is definitely the next best thing\nDefinitely Oasis do an amazing job of keeping the music alive and set the bar high by re-creating the look\, sound and feel of an Oasis gig that fans come to expect and are also the only Oasis tribute that have both a Liam and Noel sound-alikes. \nDoors 7pm \n
URL:https://www.kasbahnightclub.com/event/definitely-oasis-pre-club-show/
END:VEVENT
END:VCALENDAR