BEGIN:VCALENDAR
VERSION:2.0
PRODID:-//Kasbah Nightclub Coventry - ECPv4.9.5//NONSGML v1.0//EN
CALSCALE:GREGORIAN
METHOD:PUBLISH
X-WR-CALNAME:Kasbah Nightclub Coventry
X-ORIGINAL-URL:https://www.kasbahnightclub.com
X-WR-CALDESC:Events for Kasbah Nightclub Coventry
BEGIN:VTIMEZONE
TZID:"Europe/London"
BEGIN:DAYLIGHT
TZOFFSETFROM:+0000
TZOFFSETTO:+0100
TZNAME:BST
DTSTART:20210328T010000
END:DAYLIGHT
BEGIN:STANDARD
TZOFFSETFROM:+0100
TZOFFSETTO:+0000
TZNAME:GMT
DTSTART:20211031T010000
END:STANDARD
END:VTIMEZONE
BEGIN:VEVENT
DTSTART;TZID="Europe/London":20211106T150000
DTEND;TZID="Europe/London":20211106T220000
DTSTAMP:20260419T153648
CREATED:20210917T214330Z
LAST-MODIFIED:20210917T214330Z
UID:1013-1636210800-1636236000@www.kasbahnightclub.com
SUMMARY:Day Sessions with Patrick Topping
DESCRIPTION:\nWe welcome one of the UK’s most in demand DJs to Kasbah on Saturday 6th November 2021 for another huge Day Sessions line up  Patrick Topping will be bringing his house and techno flavours to Kasbah to headline this massive event alongside DJ Hype in our DNB room and Micky Slim in our garden \n\n\nTickets on sale now >> https://www.skiddle.com/e/35811430/\n\n
URL:https://www.kasbahnightclub.com/event/day-sessions-with-patrick-topping/
END:VEVENT
END:VCALENDAR