BEGIN:VCALENDAR
VERSION:2.0
PRODID:-//Kasbah Nightclub Coventry - ECPv4.9.5//NONSGML v1.0//EN
CALSCALE:GREGORIAN
METHOD:PUBLISH
X-WR-CALNAME:Kasbah Nightclub Coventry
X-ORIGINAL-URL:https://www.kasbahnightclub.com
X-WR-CALDESC:Events for Kasbah Nightclub Coventry
BEGIN:VTIMEZONE
TZID:"Europe/London"
BEGIN:DAYLIGHT
TZOFFSETFROM:+0000
TZOFFSETTO:+0100
TZNAME:BST
DTSTART:20190331T010000
END:DAYLIGHT
BEGIN:STANDARD
TZOFFSETFROM:+0100
TZOFFSETTO:+0000
TZNAME:GMT
DTSTART:20191027T010000
END:STANDARD
END:VTIMEZONE
BEGIN:VEVENT
DTSTART;TZID="Europe/London":20191109T150000
DTEND;TZID="Europe/London":20191109T220000
DTSTAMP:20260424T133350
CREATED:20190907T225553Z
LAST-MODIFIED:20191106T151912Z
UID:701-1573311600-1573336800@www.kasbahnightclub.com
SUMMARY:DAY SESSIONS w/ EATS EVERYTHING\, ANDREA OLIVA\, REDLIGHT\, DJ HAZARD
DESCRIPTION:We look forward to welcoming Eats Everything to Kasbah on Saturday 9th November for another Day Sessions as part of his UK tour. \nDaytime Event\n3pm – 10pm \n***** MAIN ROOM ***** \nEATS EVERYTHING\n+ ANDREA OLIVA \n+ REDLIGHT \n+ DJ HAZARD \nAt the forefront of a very rich history of talented DJ’s and Producers to come out of Bristol\, England\, Eats Everything made a rapid and far-reaching impact on the electronic music scene in 2011. With 2019 already shaping up to be the biggest and best year so far in the meteoric rise of Eats Everything\, the Bristolian native is out on tour this coming November with a stop in Coventry for Day Sessions. \n***** ROOM 2 ***** \nHosted by FILTH – Events \nwww.kasbahnightclub.com\nwww.skiddle.com \nDoors 3pm \n
URL:https://www.kasbahnightclub.com/event/day-sessions-w-eats-everything-special-guests/
END:VEVENT
END:VCALENDAR