BEGIN:VCALENDAR
VERSION:2.0
PRODID:-//Kasbah Nightclub Coventry - ECPv4.9.5//NONSGML v1.0//EN
CALSCALE:GREGORIAN
METHOD:PUBLISH
X-WR-CALNAME:Kasbah Nightclub Coventry
X-ORIGINAL-URL:https://www.kasbahnightclub.com
X-WR-CALDESC:Events for Kasbah Nightclub Coventry
BEGIN:VTIMEZONE
TZID:"Europe/London"
BEGIN:DAYLIGHT
TZOFFSETFROM:+0000
TZOFFSETTO:+0100
TZNAME:BST
DTSTART:20210328T010000
END:DAYLIGHT
BEGIN:STANDARD
TZOFFSETFROM:+0100
TZOFFSETTO:+0000
TZNAME:GMT
DTSTART:20211031T010000
END:STANDARD
END:VTIMEZONE
BEGIN:VEVENT
DTSTART;TZID="Europe/London":20210717T150000
DTEND;TZID="Europe/London":20210717T220000
DTSTAMP:20260422T204319
CREATED:20210423T160313Z
LAST-MODIFIED:20210712T140354Z
UID:934-1626534000-1626559200@www.kasbahnightclub.com
SUMMARY:Day Sessions presents Patrick Topping (Postponed)
DESCRIPTION:****WE ARE WORKING ON A NEW DATE AND IT WILL BE ANNOUNCED VERY SOON*** \nWe welcome one of the UK’s most in demand DJs to Kasbah on Saturday 17th July 2021 for another huge Day Sessions line up 💥 Patrick Topping will be bringing his house and techno flavours to Kasbah to headline this massive event alongside DJ Hype in our DNB room 🔥  \nhttps://www.skiddle.com/e/35811430/  \nGeneral tickets on sale Monday 10am. \n \n
URL:https://www.kasbahnightclub.com/event/day-sessions-presents-patrick-topping/
END:VEVENT
END:VCALENDAR