BEGIN:VCALENDAR
VERSION:2.0
PRODID:-//Kasbah Nightclub Coventry - ECPv4.9.5//NONSGML v1.0//EN
CALSCALE:GREGORIAN
METHOD:PUBLISH
X-WR-CALNAME:Kasbah Nightclub Coventry
X-ORIGINAL-URL:https://www.kasbahnightclub.com
X-WR-CALDESC:Events for Kasbah Nightclub Coventry
BEGIN:VTIMEZONE
TZID:"Europe/London"
BEGIN:DAYLIGHT
TZOFFSETFROM:+0000
TZOFFSETTO:+0100
TZNAME:BST
DTSTART:20210328T010000
END:DAYLIGHT
BEGIN:STANDARD
TZOFFSETFROM:+0100
TZOFFSETTO:+0000
TZNAME:GMT
DTSTART:20211031T010000
END:STANDARD
END:VTIMEZONE
BEGIN:VEVENT
DTSTART;TZID="Europe/London":20210807T150000
DTEND;TZID="Europe/London":20210807T220000
DTSTAMP:20260422T192009
CREATED:20210401T122626Z
LAST-MODIFIED:20210401T122944Z
UID:922-1628348400-1628373600@www.kasbahnightclub.com
SUMMARY:DAY SESSIONS - HOLY GOOF
DESCRIPTION:Day Sessions at Kasbah: Lineups\, directions and info \n\n\nLINE UP ANNOUNCEMENT \n\n\nDay Sessions makes a huge return on Saturday 7th August 2021 with HOLY GOOF\, K MOTIONZ\, DJ RANDALL & many more \n\n\nTickets already flying out  Make sure you grab yours now  You don’t want to miss this oneTicket link >> https://www.skiddle.com/…/Kasbah/Day-Sessions/35797747/\n\n\n\n
URL:https://www.kasbahnightclub.com/event/day-sessions-3/
END:VEVENT
END:VCALENDAR