BEGIN:VCALENDAR
VERSION:2.0
PRODID:-//Kasbah Nightclub Coventry - ECPv4.9.5//NONSGML v1.0//EN
CALSCALE:GREGORIAN
METHOD:PUBLISH
X-WR-CALNAME:Kasbah Nightclub Coventry
X-ORIGINAL-URL:https://www.kasbahnightclub.com
X-WR-CALDESC:Events for Kasbah Nightclub Coventry
BEGIN:VTIMEZONE
TZID:"Europe/London"
BEGIN:DAYLIGHT
TZOFFSETFROM:+0000
TZOFFSETTO:+0100
TZNAME:BST
DTSTART:20190331T010000
END:DAYLIGHT
BEGIN:STANDARD
TZOFFSETFROM:+0100
TZOFFSETTO:+0000
TZNAME:GMT
DTSTART:20191027T010000
END:STANDARD
END:VTIMEZONE
BEGIN:VEVENT
DTSTART;TZID="Europe/London":20190309T220000
DTEND;TZID="Europe/London":20190309T220000
DTSTAMP:20260422T235720
CREATED:20190131T092900Z
LAST-MODIFIED:20190131T092900Z
UID:395-1552168800-1552168800@www.kasbahnightclub.com
SUMMARY:DAPPY (Tricky Disco)
DESCRIPTION:Former N-Dubz rapper and singer Dappy will be making his debut at Kasbah Nightclub on Saturday 9th March 2019 performing live on stage. \nSince the N-Dubz disbandment\, he has gone on to grow an impressive following of his solo material\, storming the UK charts with his number 1 single ‘No Regrets’ and more recently ‘Oh My’ \nAdvance tickets on sale Thursday 31st January at 10am from https://www.seetickets.com/event/dappy/kasbah/1310417 \n
URL:https://www.kasbahnightclub.com/event/dappy-tricky-disco/
END:VEVENT
END:VCALENDAR