BEGIN:VCALENDAR
VERSION:2.0
PRODID:-//Kasbah Nightclub Coventry - ECPv4.9.5//NONSGML v1.0//EN
CALSCALE:GREGORIAN
METHOD:PUBLISH
X-WR-CALNAME:Kasbah Nightclub Coventry
X-ORIGINAL-URL:https://www.kasbahnightclub.com
X-WR-CALDESC:Events for Kasbah Nightclub Coventry
BEGIN:VTIMEZONE
TZID:"Europe/London"
BEGIN:DAYLIGHT
TZOFFSETFROM:+0000
TZOFFSETTO:+0100
TZNAME:BST
DTSTART:20250330T010000
END:DAYLIGHT
BEGIN:STANDARD
TZOFFSETFROM:+0100
TZOFFSETTO:+0000
TZNAME:GMT
DTSTART:20251026T010000
END:STANDARD
END:VTIMEZONE
BEGIN:VEVENT
DTSTART;TZID="Europe/London":20250308T150000
DTEND;TZID="Europe/London":20250308T220000
DTSTAMP:20260420T154007
CREATED:20250227T152511Z
LAST-MODIFIED:20250227T152511Z
UID:1675-1741446000-1741471200@www.kasbahnightclub.com
SUMMARY:CV Breaks presents Krafty Kuts
DESCRIPTION:\nCV Breaks presents Krafty Kuts on March 8th.\n\nThis will be his first visit to the City of Coventry to play an exclusive 2 hour set of the freshest new music\, along with his unique scratching skills and turntablism he is one of the biggest names in breaks worldwide.\n\n\nDaytime Event: 3pm – 11pm\n\nTicket Link: https://www.skiddle.com/whats-on/Coventry/Ivy-House/CV-Breaks/40611817/\n\n\n
URL:https://www.kasbahnightclub.com/event/cv-breaks-presents-krafty-kuts/
END:VEVENT
END:VCALENDAR