BEGIN:VCALENDAR
VERSION:2.0
PRODID:-//Kasbah Nightclub Coventry - ECPv4.9.5//NONSGML v1.0//EN
CALSCALE:GREGORIAN
METHOD:PUBLISH
X-WR-CALNAME:Kasbah Nightclub Coventry
X-ORIGINAL-URL:https://www.kasbahnightclub.com
X-WR-CALDESC:Events for Kasbah Nightclub Coventry
BEGIN:VTIMEZONE
TZID:"Europe/London"
BEGIN:DAYLIGHT
TZOFFSETFROM:+0000
TZOFFSETTO:+0100
TZNAME:BST
DTSTART:20230326T010000
END:DAYLIGHT
BEGIN:STANDARD
TZOFFSETFROM:+0100
TZOFFSETTO:+0000
TZNAME:GMT
DTSTART:20231029T010000
END:STANDARD
END:VTIMEZONE
BEGIN:VEVENT
DTSTART;TZID="Europe/London":20230617T140000
DTEND;TZID="Europe/London":20230617T220000
DTSTAMP:20260422T122100
CREATED:20230519T142423Z
LAST-MODIFIED:20230519T142423Z
UID:1344-1687010400-1687039200@www.kasbahnightclub.com
SUMMARY:Cream Presents
DESCRIPTION:\nOne of the world’s most iconic dance brands\, Cream\, is coming to Coventry on Saturday 17th June 2023 \n\n\nBringing us a massive line up of old school acts  Are you ready to go back in time with some of the biggest names who defined UK’s electronic music \n\n\nMauro Picotto / Tall Paul / K-Klass Live PA / LTJ Bukem / Scratch Perverts / Freestylers / Alister Whitehead & many more all under one roof for this massive day time event \n\n\n2pm-11pm\nTicket link: https://www.skiddle.com/e/36329085/\n\n\n
URL:https://www.kasbahnightclub.com/event/cream-presents/
END:VEVENT
END:VCALENDAR