BEGIN:VCALENDAR
VERSION:2.0
PRODID:-//Kasbah Nightclub Coventry - ECPv4.9.5//NONSGML v1.0//EN
CALSCALE:GREGORIAN
METHOD:PUBLISH
X-WR-CALNAME:Kasbah Nightclub Coventry
X-ORIGINAL-URL:https://www.kasbahnightclub.com
X-WR-CALDESC:Events for Kasbah Nightclub Coventry
BEGIN:VTIMEZONE
TZID:"Europe/London"
BEGIN:DAYLIGHT
TZOFFSETFROM:+0000
TZOFFSETTO:+0100
TZNAME:BST
DTSTART:20190331T010000
END:DAYLIGHT
BEGIN:STANDARD
TZOFFSETFROM:+0100
TZOFFSETTO:+0000
TZNAME:GMT
DTSTART:20191027T010000
END:STANDARD
END:VTIMEZONE
BEGIN:VEVENT
DTSTART;TZID="Europe/London":20190803T220000
DTEND;TZID="Europe/London":20190803T220000
DTSTAMP:20260424T152907
CREATED:20190726T224150Z
LAST-MODIFIED:20190726T224150Z
UID:641-1564869600-1564869600@www.kasbahnightclub.com
SUMMARY:COOMBE WEEKENDER OFFICIAL AFTER PARTY (Tricky Disco)
DESCRIPTION:Coombe Weekender Official After party 💃🕺\nFree Entry with a Coombe weekender wristband 🤩🤩 \nAdmission £6 without a wristband \nThis August Coventry welcomes a brand new event\, Coombe Weekender. Set in the grounds of a 12th-century Cistercian abbey\, Coombe Weekender will provide the musical build up to Coventry winning City of Culture for 2021. \nThe offering will be as diverse as the local area with headliners The Libertines\, Tom Grennan\, Circa Waves\, Reverend and the Makers plus more running 20\,000 event goers through funk\, soul\, disco\, indie and pop music over a two day event. Off stage entertainment will come from numerous food stalls\, bars and activities around the site letting party goers of all ages enjoy the expansive grounds of Coombe Abbey. \n—————————————————-\nSATURDAY 3RD AUGUST \n🎪 MAIN STAGE 🎪\nThe Libertines\nTom Grennan\nCirca Waves\nReverend & The Makers\nGood Cop\, Bad Cop\nAthens\nCandid\nBLVFF \n🎪 BIG TOP TENT 🎪\nFaithless (DJ Set)\nCrystal Waters (Live PA Gypsy woman & More)\nCraig & Grant Gordon\nJamie Ward\nJames Wheeler\nJake Edgar & Daniel Brooks\nplus More TBA \n—————————————————- \nSUNDAY 4TH AUGUST \n🎪 MAIN STAGE 🎪\nMK\nSigala\nKelis\nToploader\nCraig Charles Funk & Soul\nFleur East\nMatt Gannon\nHosted by: JD Free Radio \n🎪 BIG TOP TENT 🎪\nJoey Negro\nCrazy P Soundsystem\nRaver Tots (12-5)\nLoyal\nGhost Town DJ’s\nDJ Moments\nMoonth & Hue\nMark Brogan / S-Deep / Braddah \n—————————————————-\nUnique Bars | Food Village | VIP Areas | Kids Village | Amusements \nSaturday: 18+ Only\nSunday: All ages welcome (Under 7’s go FREE*) \nFIND MORE INFO HERE: www.coombeweekender.com \n
URL:https://www.kasbahnightclub.com/event/coombe-weekender-official-after-party-tricky-disco/
END:VEVENT
END:VCALENDAR