BEGIN:VCALENDAR
VERSION:2.0
PRODID:-//Kasbah Nightclub Coventry - ECPv4.9.5//NONSGML v1.0//EN
CALSCALE:GREGORIAN
METHOD:PUBLISH
X-WR-CALNAME:Kasbah Nightclub Coventry
X-ORIGINAL-URL:https://www.kasbahnightclub.com
X-WR-CALDESC:Events for Kasbah Nightclub Coventry
BEGIN:VTIMEZONE
TZID:"Europe/London"
BEGIN:DAYLIGHT
TZOFFSETFROM:+0000
TZOFFSETTO:+0100
TZNAME:BST
DTSTART:20230326T010000
END:DAYLIGHT
BEGIN:STANDARD
TZOFFSETFROM:+0100
TZOFFSETTO:+0000
TZNAME:GMT
DTSTART:20231029T010000
END:STANDARD
END:VTIMEZONE
BEGIN:VEVENT
DTSTART;TZID="Europe/London":20230311T180000
DTEND;TZID="Europe/London":20230311T180000
DTSTAMP:20260422T122353
CREATED:20230112T143716Z
LAST-MODIFIED:20230203T161004Z
UID:1290-1678557600-1678557600@www.kasbahnightclub.com
SUMMARY:Chris Moyles - 90s Hangover (Cancelled)
DESCRIPTION:\n\nRegrettably this show is now cancelled.\nIf you bought a ticket\, you will be refunded in the next 3-5 working days\n\n\n
URL:https://www.kasbahnightclub.com/event/chris-moyles-90s-hangover/
END:VEVENT
END:VCALENDAR