BEGIN:VCALENDAR
VERSION:2.0
PRODID:-//Kasbah Nightclub Coventry - ECPv4.9.5//NONSGML v1.0//EN
CALSCALE:GREGORIAN
METHOD:PUBLISH
X-WR-CALNAME:Kasbah Nightclub Coventry
X-ORIGINAL-URL:https://www.kasbahnightclub.com
X-WR-CALDESC:Events for Kasbah Nightclub Coventry
BEGIN:VTIMEZONE
TZID:"Europe/London"
BEGIN:DAYLIGHT
TZOFFSETFROM:+0000
TZOFFSETTO:+0100
TZNAME:BST
DTSTART:20210328T010000
END:DAYLIGHT
BEGIN:STANDARD
TZOFFSETFROM:+0100
TZOFFSETTO:+0000
TZNAME:GMT
DTSTART:20211031T010000
END:STANDARD
END:VTIMEZONE
BEGIN:VEVENT
DTSTART;TZID="Europe/London":20210724T150000
DTEND;TZID="Europe/London":20210724T220000
DTSTAMP:20260422T192223
CREATED:20210603T141733Z
LAST-MODIFIED:20210712T140303Z
UID:959-1627138800-1627164000@www.kasbahnightclub.com
SUMMARY:Chase & Status (Day Sessions)
DESCRIPTION:Another huge Day Sessions incoming 💣💥💯\nOn Saturday 24th July we welcome electronic and drum & bass heavyweights Chase & Status  to Kasbah to headline another big Day Sessions event 🚀\nTickets on sale this Thursday 10am from https://www.skiddle.com/e/35827051/ \n \n
URL:https://www.kasbahnightclub.com/event/chase-status-day-sessions/
END:VEVENT
END:VCALENDAR