BEGIN:VCALENDAR
VERSION:2.0
PRODID:-//Kasbah Nightclub Coventry - ECPv4.9.5//NONSGML v1.0//EN
CALSCALE:GREGORIAN
METHOD:PUBLISH
X-WR-CALNAME:Kasbah Nightclub Coventry
X-ORIGINAL-URL:https://www.kasbahnightclub.com
X-WR-CALDESC:Events for Kasbah Nightclub Coventry
BEGIN:VTIMEZONE
TZID:"Europe/London"
BEGIN:DAYLIGHT
TZOFFSETFROM:+0000
TZOFFSETTO:+0100
TZNAME:BST
DTSTART:20230326T010000
END:DAYLIGHT
BEGIN:STANDARD
TZOFFSETFROM:+0100
TZOFFSETTO:+0000
TZNAME:GMT
DTSTART:20231029T010000
END:STANDARD
END:VTIMEZONE
BEGIN:VEVENT
DTSTART;TZID="Europe/London":20230930T150000
DTEND;TZID="Europe/London":20230930T230000
DTSTAMP:20260420T203223
CREATED:20230821T142224Z
LAST-MODIFIED:20230821T142224Z
UID:1362-1696086000-1696114800@www.kasbahnightclub.com
SUMMARY:Chase & Status (Day Sessions)
DESCRIPTION:\nCHASE AND STATUS\nDAY SESSIONS\nSATURDAY 30TH SEPTEMBER\n\n\n\nHailed as one of the biggest artists on the DnB scene\, Chase and Status will be back at Kasbah on Saturday 30th September to headline Day Sessions \n\n\nAnd with their new single Baddadan storming the charts and taking over Festivals across the globe\, it’s set to be an unforgettable event \n\n\n\nTickets on sale  https://www.skiddle.com/e/36491601/\n\n\n\n
URL:https://www.kasbahnightclub.com/event/chase-status-day-sessions-2/
END:VEVENT
END:VCALENDAR