BEGIN:VCALENDAR
VERSION:2.0
PRODID:-//Kasbah Nightclub Coventry - ECPv4.9.5//NONSGML v1.0//EN
CALSCALE:GREGORIAN
METHOD:PUBLISH
X-WR-CALNAME:Kasbah Nightclub Coventry
X-ORIGINAL-URL:https://www.kasbahnightclub.com
X-WR-CALDESC:Events for Kasbah Nightclub Coventry
BEGIN:VTIMEZONE
TZID:"Europe/London"
BEGIN:DAYLIGHT
TZOFFSETFROM:+0000
TZOFFSETTO:+0100
TZNAME:BST
DTSTART:20220327T010000
END:DAYLIGHT
BEGIN:STANDARD
TZOFFSETFROM:+0100
TZOFFSETTO:+0000
TZNAME:GMT
DTSTART:20221030T010000
END:STANDARD
END:VTIMEZONE
BEGIN:VEVENT
DTSTART;TZID="Europe/London":20221119T220000
DTEND;TZID="Europe/London":20221119T220000
DTSTAMP:20260422T135134
CREATED:20221031T151728Z
LAST-MODIFIED:20221110T152524Z
UID:1249-1668895200-1668895200@www.kasbahnightclub.com
SUMMARY:Charlie Sloth (Cancelled)
DESCRIPTION:\nThis show is now cancelled due to Charlie’s work commitments\, please contact your ticket provider to arrange a refund.\n\n\n\nTicket link  https://www.skiddle.com/e/36193388/\n\n\n\n
URL:https://www.kasbahnightclub.com/event/charlie-sloth/
END:VEVENT
END:VCALENDAR