BEGIN:VCALENDAR
VERSION:2.0
PRODID:-//Kasbah Nightclub Coventry - ECPv4.9.5//NONSGML v1.0//EN
CALSCALE:GREGORIAN
METHOD:PUBLISH
X-WR-CALNAME:Kasbah Nightclub Coventry
X-ORIGINAL-URL:https://www.kasbahnightclub.com
X-WR-CALDESC:Events for Kasbah Nightclub Coventry
BEGIN:VTIMEZONE
TZID:"Europe/London"
BEGIN:DAYLIGHT
TZOFFSETFROM:+0000
TZOFFSETTO:+0100
TZNAME:BST
DTSTART:20240331T010000
END:DAYLIGHT
BEGIN:STANDARD
TZOFFSETFROM:+0100
TZOFFSETTO:+0000
TZNAME:GMT
DTSTART:20241027T010000
END:STANDARD
END:VTIMEZONE
BEGIN:VEVENT
DTSTART;TZID="Europe/London":20240420T150000
DTEND;TZID="Europe/London":20240420T230000
DTSTAMP:20260422T092548
CREATED:20240202T150225Z
LAST-MODIFIED:20240202T150225Z
UID:1461-1713625200-1713654000@www.kasbahnightclub.com
SUMMARY:Bou + Kings Of The Rollers (Day Sessions)
DESCRIPTION:\nDay Sessions returns for another all day drum & bass rave on Saturday 20th April with headliners Bou & Kings of the Rollers \n\n\nAward winning drum & bass’ new-gen superstar\, Bou\, is joined by Kings of the Rollers for this double headliner special \n\n\nExpect a whole day of Jump-Up\, Rollers and Jungle\n\n\n\nTickets on sale   https://skiddle.com/e/37267132\n\n\nDaytime Event 3pm – 11pm\n
URL:https://www.kasbahnightclub.com/event/bou-kings-of-the-rollers-day-sessions/
END:VEVENT
END:VCALENDAR