BEGIN:VCALENDAR
VERSION:2.0
PRODID:-//Kasbah Nightclub Coventry - ECPv4.9.5//NONSGML v1.0//EN
CALSCALE:GREGORIAN
METHOD:PUBLISH
X-WR-CALNAME:Kasbah Nightclub Coventry
X-ORIGINAL-URL:https://www.kasbahnightclub.com
X-WR-CALDESC:Events for Kasbah Nightclub Coventry
BEGIN:VTIMEZONE
TZID:"Europe/London"
BEGIN:DAYLIGHT
TZOFFSETFROM:+0000
TZOFFSETTO:+0100
TZNAME:BST
DTSTART:20190331T010000
END:DAYLIGHT
BEGIN:STANDARD
TZOFFSETFROM:+0100
TZOFFSETTO:+0000
TZNAME:GMT
DTSTART:20191027T010000
END:STANDARD
END:VTIMEZONE
BEGIN:VEVENT
DTSTART;TZID="Europe/London":20190927T220000
DTEND;TZID="Europe/London":20190927T220000
DTSTAMP:20260424T152021
CREATED:20190923T142324Z
LAST-MODIFIED:20190923T142324Z
UID:714-1569621600-1569621600@www.kasbahnightclub.com
SUMMARY:BLAZIN SQUAD
DESCRIPTION:London Hiphop group BLAZIN’ Squad will be performing live at Kasbah on Friday 27th September 2019 bringing us a night full of Noughties nostalgia with Love Island’s Marcel included in the line up 🔥🔥 \nMAIN ROOM PERFORMANCE\n3 ROOMS OF ALL YOUR FAVOURITE MUSIC\nHOUSE SPIRITS / J-BOMBS / VODKA MIXERS £1.50\n241 ON COCKTAILS ALL NIGHT\n£5 ENTRY \nDOORS 10PM \nNO ADVANCE TICKETS\, EVERYONE IS PAYING ON THE DOOR \n
URL:https://www.kasbahnightclub.com/event/blazin-squad/
END:VEVENT
END:VCALENDAR