BEGIN:VCALENDAR
VERSION:2.0
PRODID:-//Kasbah Nightclub Coventry - ECPv4.9.5//NONSGML v1.0//EN
CALSCALE:GREGORIAN
METHOD:PUBLISH
X-WR-CALNAME:Kasbah Nightclub Coventry
X-ORIGINAL-URL:https://www.kasbahnightclub.com
X-WR-CALDESC:Events for Kasbah Nightclub Coventry
BEGIN:VTIMEZONE
TZID:"Europe/London"
BEGIN:DAYLIGHT
TZOFFSETFROM:+0000
TZOFFSETTO:+0100
TZNAME:BST
DTSTART:20240331T010000
END:DAYLIGHT
BEGIN:STANDARD
TZOFFSETFROM:+0100
TZOFFSETTO:+0000
TZNAME:GMT
DTSTART:20241027T010000
END:STANDARD
END:VTIMEZONE
BEGIN:VEVENT
DTSTART;TZID="Europe/London":20240223T190000
DTEND;TZID="Europe/London":20240223T220000
DTSTAMP:20260422T105112
CREATED:20240202T151145Z
LAST-MODIFIED:20240202T151145Z
UID:1470-1708714800-1708725600@www.kasbahnightclub.com
SUMMARY:Bingo Lingo
DESCRIPTION:\n ! ’  \n\n\nWe’re delighted to announce that we are the new home of BINGO LINGO in Coventry and to celebrate we’d love to give one lucky person the chance to win the following to their first show on Friday 23rd Feb:\n 8 x Tickets to the show\n £100 Bar Tab\n VIP Table\n\n\nCheck our facebook post: https://fb.watch/pYLV3rR0sO/\n\nTO ENTER:\nFollow\nTAG the friends you want on your table\nSHARE this post\n\n\n\nWinner will be announced on Monday 22nd January.\n\n\nTicket link  https://skiddle.com/e/37262851\n\n\nGood Luck \n\n
URL:https://www.kasbahnightclub.com/event/bingo-lingo-3/
END:VEVENT
END:VCALENDAR