BEGIN:VCALENDAR
VERSION:2.0
PRODID:-//Kasbah Nightclub Coventry - ECPv4.9.5//NONSGML v1.0//EN
CALSCALE:GREGORIAN
METHOD:PUBLISH
X-WR-CALNAME:Kasbah Nightclub Coventry
X-ORIGINAL-URL:https://www.kasbahnightclub.com
X-WR-CALDESC:Events for Kasbah Nightclub Coventry
BEGIN:VTIMEZONE
TZID:"Europe/London"
BEGIN:DAYLIGHT
TZOFFSETFROM:+0000
TZOFFSETTO:+0100
TZNAME:BST
DTSTART:20240331T010000
END:DAYLIGHT
BEGIN:STANDARD
TZOFFSETFROM:+0100
TZOFFSETTO:+0000
TZNAME:GMT
DTSTART:20241027T010000
END:STANDARD
END:VTIMEZONE
BEGIN:VEVENT
DTSTART;TZID="Europe/London":20240526T170000
DTEND;TZID="Europe/London":20240526T170000
DTSTAMP:20260420T171817
CREATED:20240304T125038Z
LAST-MODIFIED:20240304T125038Z
UID:1486-1716742800-1716742800@www.kasbahnightclub.com
SUMMARY:Ben Hemsley (Day Sessions)
DESCRIPTION:\nBEN HEMSLEY\nDAY SESSIONS\nMAY BANK HOLIDAY SPECIAL\n\n\n\nBen Hemsley returns to Kasbah on Sunday 26th May for a huge Bank Holiday Day Sessions after a massive sell out show last year \n\n\nOne of the biggest names on the scene right now\, Ben Hemsley sells out every venue he plays at \n\n\n\nTickets on sale   https://skiddle.com/e/38070237\n\n\nDoors 5pm until late\n\nTHIS EVENT WILL SELL OUT IN ADVANCE\n\n\n\n
URL:https://www.kasbahnightclub.com/event/ben-hemsley-day-sessions-2/
END:VEVENT
END:VCALENDAR