BEGIN:VCALENDAR
VERSION:2.0
PRODID:-//Kasbah Nightclub Coventry - ECPv4.9.5//NONSGML v1.0//EN
CALSCALE:GREGORIAN
METHOD:PUBLISH
X-WR-CALNAME:Kasbah Nightclub Coventry
X-ORIGINAL-URL:https://www.kasbahnightclub.com
X-WR-CALDESC:Events for Kasbah Nightclub Coventry
BEGIN:VTIMEZONE
TZID:"Europe/London"
BEGIN:DAYLIGHT
TZOFFSETFROM:+0000
TZOFFSETTO:+0100
TZNAME:BST
DTSTART:20220327T010000
END:DAYLIGHT
BEGIN:STANDARD
TZOFFSETFROM:+0100
TZOFFSETTO:+0000
TZNAME:GMT
DTSTART:20221030T010000
END:STANDARD
END:VTIMEZONE
BEGIN:VEVENT
DTSTART;TZID="Europe/London":20220828T220000
DTEND;TZID="Europe/London":20220828T220000
DTSTAMP:20260421T203412
CREATED:20220826T131649Z
LAST-MODIFIED:20220826T131649Z
UID:1203-1661724000-1661724000@www.kasbahnightclub.com
SUMMARY:Bank Holiday Sunday
DESCRIPTION:\n\n\n\nSUNDAY 28TH AUGUST – BANK HOLIDAY FESTIVAL \n\n\n 3 ROOMS OF YOUR FAVOURITE MUSIC \n\nSTILT WALKERS / FIRE BREATHERS / LIVE PERFORMERS\nALL YOU CAN EAT CANDY FLOSS/POPCORN MACHINES\n INFLATABLE GIVEAWAYS \n CONFETTI/CO2 CANNONS \n TONNES OF SWEETS \n DRINKS £2 \n\n\n\nSUNDAY 28TH AUGUST 2022\n10PM\n\nNO ADVANCE TICKETS\, PAY ON THE DOOR AS NORMAL – £5 BEFORE 11PM / £6 AFTER \n\n\n\n
URL:https://www.kasbahnightclub.com/event/bank-holiday-sunday/
END:VEVENT
END:VCALENDAR