BEGIN:VCALENDAR
VERSION:2.0
PRODID:-//Kasbah Nightclub Coventry - ECPv4.9.5//NONSGML v1.0//EN
CALSCALE:GREGORIAN
METHOD:PUBLISH
X-WR-CALNAME:Kasbah Nightclub Coventry
X-ORIGINAL-URL:https://www.kasbahnightclub.com
X-WR-CALDESC:Events for Kasbah Nightclub Coventry
BEGIN:VTIMEZONE
TZID:"Europe/London"
BEGIN:DAYLIGHT
TZOFFSETFROM:+0000
TZOFFSETTO:+0100
TZNAME:BST
DTSTART:20240331T010000
END:DAYLIGHT
BEGIN:STANDARD
TZOFFSETFROM:+0100
TZOFFSETTO:+0000
TZNAME:GMT
DTSTART:20241027T010000
END:STANDARD
END:VTIMEZONE
BEGIN:VEVENT
DTSTART;TZID="Europe/London":20240505T223000
DTEND;TZID="Europe/London":20240505T223000
DTSTAMP:20260420T171939
CREATED:20240418T125751Z
LAST-MODIFIED:20240418T125751Z
UID:1517-1714948200-1714948200@www.kasbahnightclub.com
SUMMARY:BANK HOLIDAY BEACH PARTY
DESCRIPTION:\nBANK HOLIDAY BEACH PARTY\n\n\n\nWin a trip to Ibiza for you & a friend PLUS a free to use hot tub on the night \n\n\n\nIce Lollies\nSlush Puppy Machines\nInflatables\nCo2/Confetti Cannons\nGiveaways\nSummer Anthems All Night Long\n\n\n\nDoors 10:30pm / Admission £6 before 11pm\, £7 after.\n\n
URL:https://www.kasbahnightclub.com/event/bank-holiday-beach-party/
END:VEVENT
END:VCALENDAR