BEGIN:VCALENDAR
VERSION:2.0
PRODID:-//Kasbah Nightclub Coventry - ECPv4.9.5//NONSGML v1.0//EN
CALSCALE:GREGORIAN
METHOD:PUBLISH
X-WR-CALNAME:Kasbah Nightclub Coventry
X-ORIGINAL-URL:https://www.kasbahnightclub.com
X-WR-CALDESC:Events for Kasbah Nightclub Coventry
BEGIN:VTIMEZONE
TZID:"Europe/London"
BEGIN:DAYLIGHT
TZOFFSETFROM:+0000
TZOFFSETTO:+0100
TZNAME:BST
DTSTART:20210328T010000
END:DAYLIGHT
BEGIN:STANDARD
TZOFFSETFROM:+0100
TZOFFSETTO:+0000
TZNAME:GMT
DTSTART:20211031T010000
END:STANDARD
END:VTIMEZONE
BEGIN:VEVENT
DTSTART;TZID="Europe/London":20210910T183000
DTEND;TZID="Europe/London":20210910T220000
DTSTAMP:20260422T193017
CREATED:20210820T185759Z
LAST-MODIFIED:20210820T185759Z
UID:997-1631298600-1631311200@www.kasbahnightclub.com
SUMMARY:Apollo Junction (Pre-club show)
DESCRIPTION:Apollo junction at the Kasbah \n“Another banging anthem” Steve Lamacq\,\n“They write huge choruses” Chris Hawkins\n“We’re a big fan of this band on the show” Graham Norton\n  \nDoors 6:30pm // 14+ \nThe tickets are Buy on get one Free offer as part of the Revive Live campaign. That means that once you buy a ticket\, you can bring a friend for free \n
URL:https://www.kasbahnightclub.com/event/apollo-junction-pre-club-show/
END:VEVENT
END:VCALENDAR