BEGIN:VCALENDAR
VERSION:2.0
PRODID:-//Kasbah Nightclub Coventry - ECPv4.9.5//NONSGML v1.0//EN
CALSCALE:GREGORIAN
METHOD:PUBLISH
X-WR-CALNAME:Kasbah Nightclub Coventry
X-ORIGINAL-URL:https://www.kasbahnightclub.com
X-WR-CALDESC:Events for Kasbah Nightclub Coventry
BEGIN:VTIMEZONE
TZID:"Europe/London"
BEGIN:DAYLIGHT
TZOFFSETFROM:+0000
TZOFFSETTO:+0100
TZNAME:BST
DTSTART:20220327T010000
END:DAYLIGHT
BEGIN:STANDARD
TZOFFSETFROM:+0100
TZOFFSETTO:+0000
TZNAME:GMT
DTSTART:20221030T010000
END:STANDARD
END:VTIMEZONE
BEGIN:VEVENT
DTSTART;TZID="Europe/London":20221015T140000
DTEND;TZID="Europe/London":20221015T220000
DTSTAMP:20260422T083424
CREATED:20221012T135746Z
LAST-MODIFIED:20221012T135746Z
UID:1235-1665842400-1665871200@www.kasbahnightclub.com
SUMMARY:Amnesia House
DESCRIPTION:The creators of the midlands rave scene; Amnesia House are back for our first all day rave!\n\nSince our 30th celebration in 2018\, Amnesia have been involved in a range of films and featured in the ‘House Is A Feeling’ exhibitions thanks to Reflection Media. Also being interviewed on BBC Midlands Today\, and even featured in the VR game experience “Repetitive Beats” about our beginnings in the illegal warehouse days.\n\nWe have 4 amazing spaces of music to provide our history from 1988 right through to today\, bringing you the past\, present & future\, all held at the Kasbah.\n\nTickets available on Skiddle now!\n\nMAIN ROOM: Amnesia House Classics\nFabio & Grooverider\nTop Buzz\nSlipmatt\nMicky Finn\nDaz Willot\nDistortion Cru\nMC’s:\nMan Parris\, Flux\, Mad P\, Hifi\, Energy\n\nLEFT WING: Drum & Bass\nHosted by Fack Abaat\nFabio\nGrooverider\nDJ SS\nEgo Trippin\nStandard Procedure\nX-Tension\nThe Junglistics\nTwo Things\nMC’s: Flux\, Toddlah\, TNT\, Impact\, Clued Up\, Bobby One\, Lecturah\n\nGARDEN: Minimal Tech & Funky House\nHosted by New Generation\nKayne Lynas\nADH\nCraig & Grant Gordon\nFrench & Lou\nCMM & JDH\nLauren Bleach & Iz Grooves\nFinley Grundy\n\nVIP Globe Bar:\nAcid House 1988/1989\nSlipmatt\nDobbo\nCarl Williams\nGeorge Chapman\nSkinnfella\nKev Maloney\n\nTickets available now at Skiddle.\nSuper early birds just £10 + booking fee\n2nd release at £15 + booking fee\nMain release £20 + booking fee\nVIP £30 + booking fee (Queue jump\, access to balcony on main stage & VIP Globe bar)\nWhen??? >> Saturday 15th Octobed 2022\nWhere??? >> Kasbah\, Primrose Hill Street\, Coventry\, CV1 5LY\nTime: 2pm-10pm\n\n\n
URL:https://www.kasbahnightclub.com/event/amnesia-house/
END:VEVENT
END:VCALENDAR