BEGIN:VCALENDAR
VERSION:2.0
PRODID:-//Kasbah Nightclub Coventry - ECPv4.9.5//NONSGML v1.0//EN
CALSCALE:GREGORIAN
METHOD:PUBLISH
X-WR-CALNAME:Kasbah Nightclub Coventry
X-ORIGINAL-URL:https://www.kasbahnightclub.com
X-WR-CALDESC:Events for Kasbah Nightclub Coventry
BEGIN:VTIMEZONE
TZID:"Europe/London"
BEGIN:DAYLIGHT
TZOFFSETFROM:+0000
TZOFFSETTO:+0100
TZNAME:BST
DTSTART:20230326T010000
END:DAYLIGHT
BEGIN:STANDARD
TZOFFSETFROM:+0100
TZOFFSETTO:+0000
TZNAME:GMT
DTSTART:20231029T010000
END:STANDARD
END:VTIMEZONE
BEGIN:VEVENT
DTSTART;TZID="Europe/London":20231007T140000
DTEND;TZID="Europe/London":20231007T220000
DTSTAMP:20260420T190006
CREATED:20230825T140909Z
LAST-MODIFIED:20231006T131446Z
UID:1396-1696687200-1696716000@www.kasbahnightclub.com
SUMMARY:Amnesia House
DESCRIPTION:Right Party People\, We’re Back From The Golden Sands Of Ibiza After 35 Years Of Rave Pool Parties\, And We’re Ready To Go Again.\n\nSo…………..\nPART III Smasher incoming…\n\nSave The Date\, October 7th\, 2023. All Roads Lead To Amnesia House @ The Kasbah\, Coventry.\nTickets available on Skiddle NOW!\n\nMAIN ROOM: Oldskool 90-93\nHosted by Amnesia House\nDJ’s\nRAP\nJUMPIN JACK FROST\nDREAM FREQUENCY (LIVE PA plus DJ Set)\nRATTY (Top Buzz Legacy Set)\nSLIPMATT\nFAYDZ\nSHOCK C\nDISTORTION CRU\nMC’s\nHI-FI\nENERGY\nMAN PARRIS\nMAD P (TOP BUZZ)\nCHALKIE WHITE\nG-FORCE\n\nLEFT WING: Drum & Bass\nHosted by Bang-In Tunes\nDJ’s\nRAP (Propa Ammo Takeover)\nDOPE AMMO & SDJ ZAK (Propa Ammo Takeover)\nDOC SCOTT\nJUMPIN JACK FROST\nMC SHABBA D\nNICKY BLACKMARKET\nNEIL TRIX\nDJ LUKE\nJAY HOLDER\nDJ SLEEPLESS\nMC’s\nTODDLAH\nMC FLUX\nTNT\nSYE (Propa Ammo Takeover)\n\nVIP Globe Bar: Acid House and House Music\nHosted by Amnesia House\nDJ’s\nSLIPMATT\nDJ FAYDZ\nAWESOME 3 (DJ SET)\nCRAIG REGAN\nCARL WILLIAMS\nSPENSER TAFFS\nJAY SKINNFELLA\nPG TRIPS\n\nTickets:\nSuper Early Bird – SOLD OUT\nEarly Bird – SOLD OUT\nVIP – SOLD OUT\nStandard Ticket – ON SALE NOW\nSecond Release Standard Ticket – NOT ON SALE\nFinal Release Standard Ticket – NOT ON SALE\nEvent Details:\nSaturday\, 7th October\, 2023\nKasbah\, Primrose Hill Street\, Coventry\, CV1 5LY\nTime: 2pm-10pm\nMusic Genres:\nAcid House\, Drum n Bass\, House\, Jungle\, Old Skool\n\n\n
URL:https://www.kasbahnightclub.com/event/amesia-house/
END:VEVENT
END:VCALENDAR