BEGIN:VCALENDAR
VERSION:2.0
PRODID:-//Kasbah Nightclub Coventry - ECPv4.9.5//NONSGML v1.0//EN
CALSCALE:GREGORIAN
METHOD:PUBLISH
X-WR-CALNAME:Kasbah Nightclub Coventry
X-ORIGINAL-URL:https://www.kasbahnightclub.com
X-WR-CALDESC:Events for Kasbah Nightclub Coventry
BEGIN:VTIMEZONE
TZID:"Europe/London"
BEGIN:DAYLIGHT
TZOFFSETFROM:+0000
TZOFFSETTO:+0100
TZNAME:BST
DTSTART:20260329T010000
END:DAYLIGHT
BEGIN:STANDARD
TZOFFSETFROM:+0100
TZOFFSETTO:+0000
TZNAME:GMT
DTSTART:20261025T010000
END:STANDARD
END:VTIMEZONE
BEGIN:VEVENT
DTSTART;TZID="Europe/London":20260815T160000
DTEND;TZID="Europe/London":20260815T200000
DTSTAMP:20260423T144027
CREATED:20260422T141931Z
LAST-MODIFIED:20260422T141931Z
UID:1931-1786809600-1786824000@www.kasbahnightclub.com
SUMMARY:ABBA Garden Party
DESCRIPTION:The ultimate ABBA Summer event is coming to Kasbah’s garden featuring big sing-alongs and live performers\, confetti showers\, all your ABBA favourites + the best 70s & 80s hits\, cocktail bar and full summer vibes. \nTickets: https://www.eventbrite.co.uk/e/outdoor-abba-garden-party-coventry-tickets-1984284643785 \n  \n
URL:https://www.kasbahnightclub.com/event/abba-garden-party/
END:VEVENT
END:VCALENDAR