BEGIN:VCALENDAR
VERSION:2.0
PRODID:-//Kasbah Nightclub Coventry - ECPv4.9.5//NONSGML v1.0//EN
CALSCALE:GREGORIAN
METHOD:PUBLISH
X-WR-CALNAME:Kasbah Nightclub Coventry
X-ORIGINAL-URL:https://www.kasbahnightclub.com
X-WR-CALDESC:Events for Kasbah Nightclub Coventry
BEGIN:VTIMEZONE
TZID:"Europe/London"
BEGIN:DAYLIGHT
TZOFFSETFROM:+0000
TZOFFSETTO:+0100
TZNAME:BST
DTSTART:20240331T010000
END:DAYLIGHT
BEGIN:STANDARD
TZOFFSETFROM:+0100
TZOFFSETTO:+0000
TZNAME:GMT
DTSTART:20241027T010000
END:STANDARD
END:VTIMEZONE
BEGIN:VEVENT
DTSTART;TZID="Europe/London":20240815T223000
DTEND;TZID="Europe/London":20240815T223000
DTSTAMP:20260420T171824
CREATED:20240807T143156Z
LAST-MODIFIED:20240807T144124Z
UID:1574-1723761000-1723761000@www.kasbahnightclub.com
SUMMARY:A Level Results Party
DESCRIPTION:\nTHE BIGGEST A LEVEL RESULTS PARTY IN THE CITY\n\n\n\nUV Face/body paint\nFree to use hot tub in the garden\nAll you can eat Candy floss & Pick n mix\nKasbah giveaways\n\n\n\nPLUS-\nFree shot on entry for anyone with 2 A results with proof before 12!\n\n\n\nThis is a sell out event every year\nTickets on sale now  https://www.skiddle.com/…/A-Level-Results-Party/39285257/\n\n\n\n
URL:https://www.kasbahnightclub.com/event/a-level-results-party-4/
END:VEVENT
END:VCALENDAR