BEGIN:VCALENDAR
VERSION:2.0
PRODID:-//Kasbah Nightclub Coventry - ECPv4.9.5//NONSGML v1.0//EN
CALSCALE:GREGORIAN
METHOD:PUBLISH
X-WR-CALNAME:Kasbah Nightclub Coventry
X-ORIGINAL-URL:https://www.kasbahnightclub.com
X-WR-CALDESC:Events for Kasbah Nightclub Coventry
BEGIN:VTIMEZONE
TZID:"Europe/London"
BEGIN:DAYLIGHT
TZOFFSETFROM:+0000
TZOFFSETTO:+0100
TZNAME:BST
DTSTART:20210328T010000
END:DAYLIGHT
BEGIN:STANDARD
TZOFFSETFROM:+0100
TZOFFSETTO:+0000
TZNAME:GMT
DTSTART:20211031T010000
END:STANDARD
END:VTIMEZONE
BEGIN:VEVENT
DTSTART;TZID="Europe/London":20210810T220000
DTEND;TZID="Europe/London":20210810T220000
DTSTAMP:20260422T192829
CREATED:20210712T141216Z
LAST-MODIFIED:20210712T141216Z
UID:975-1628632800-1628632800@www.kasbahnightclub.com
SUMMARY:A Level Results Party
DESCRIPTION:💥💥 THE BIGGEST ALEVEL RESULTS PARTY IN THE CITY 💥💥  \nTUESDAY 10TH AUGUST – GIANT INFLATABLE RAVE 🍕🍍🍉🦜🥳🤩\nSELL OUT EVENT EVERY YEAR! Tickets on sale tonight at 6pm❗And with last year’s event being cancelled\, this year has double the demand 😱🤯  \n🎊 Hundreds of giveaways including GIANT and small inflatables\n🎊 Glow foam batons\, Kasbah foam fingers\, pool noodles and much more\n🎊 Loads of sweets/ice lolly giveaways\n🎊 Glitter face painters\n🎊 Pyrotechnic shows\n🎊 Co2/Confetti cannons/Confetti showers\n🎊 LED Screens/disco mirror balls\n🎊 Lasers/Special Effects  \nFREE TOAST ON EXIT 😋🤤\nTICKET LINK ↪ https://www.skiddle.com/e/35834587/ \n
URL:https://www.kasbahnightclub.com/event/a-level-results-party-2/
END:VEVENT
END:VCALENDAR